BEGIN:VCALENDAR
VERSION:2.0
PRODID:-//Cenumex - ECPv6.15.20//NONSGML v1.0//EN
CALSCALE:GREGORIAN
METHOD:PUBLISH
X-ORIGINAL-URL:https://cenumex.com
X-WR-CALDESC:Eventos para Cenumex
REFRESH-INTERVAL;VALUE=DURATION:PT1H
X-Robots-Tag:noindex
X-PUBLISHED-TTL:PT1H
BEGIN:VTIMEZONE
TZID:America/Mexico_City
BEGIN:STANDARD
TZOFFSETFROM:-0600
TZOFFSETTO:-0600
TZNAME:CST
DTSTART:20240101T000000
END:STANDARD
END:VTIMEZONE
BEGIN:VEVENT
DTSTART;VALUE=DATE:20250531
DTEND;VALUE=DATE:20250602
DTSTAMP:20260420T025948
CREATED:20241104T224238Z
LAST-MODIFIED:20250408T195808Z
UID:18038-1748649600-1748822399@cenumex.com
SUMMARY:X Convención Numismática de Apizaco\, Tlaxcala
DESCRIPTION:Décima convención numismática de Apizaco\, Tlaxcala\, dedicada a Antonio Manuel Escandón y las fichas de ferrocarriles.
URL:https://cenumex.com/evento/x-convencion-numismatica-de-apizaco/
LOCATION:Centro Comercial “La Antigua Estación”\, Blvrd. E. Sánchez Piedras 409D\, Apizaco\, Tlaxcala\, 90300\, Mexico
CATEGORIES:Convención
ATTACH;FMTTYPE=image/jpeg:https://cenumex.com/wp-content/uploads/2024/11/489800003_678019958068894_7687020300049082111_n.jpg
END:VEVENT
BEGIN:VEVENT
DTSTART;TZID=America/Mexico_City:20250605T100000
DTEND;TZID=America/Mexico_City:20250607T180000
DTSTAMP:20260420T025948
CREATED:20250603T172751Z
LAST-MODIFIED:20250603T172751Z
UID:20056-1749117600-1749319200@cenumex.com
SUMMARY:Un Viaje en la Historia a través de nuestras Monedas y Billetes
DESCRIPTION:
URL:https://cenumex.com/evento/un-viaje-en-la-historia-a-traves-de-nuestras-monedas-y-billetes/
LOCATION:Casino del Pueblo Huimanguillo\, Calle Ignacio Allende #27\, Colonia Centro\, Huimanguillo\, Tabasco\, 86400\, Mexico
CATEGORIES:Exposición
ATTACH;FMTTYPE=image/jpeg:https://cenumex.com/wp-content/uploads/2025/06/503639017_1111161737705931_4393224656829306006_n.jpg
END:VEVENT
BEGIN:VEVENT
DTSTART;TZID=America/Mexico_City:20250607T100000
DTEND;TZID=America/Mexico_City:20250608T160000
DTSTAMP:20260420T025948
CREATED:20250502T173326Z
LAST-MODIFIED:20250502T173326Z
UID:19821-1749290400-1749398400@cenumex.com
SUMMARY:Convención Numismática de Anaheim\, California
DESCRIPTION:
URL:https://cenumex.com/evento/convencion-numismatica-de-anaheim-california/
LOCATION:The Olive Tree Banquet Hall\, 907 South Beach Boulevard\, Anaheim\, CA 92804\, United States
CATEGORIES:Convención
ATTACH;FMTTYPE=image/jpeg:https://cenumex.com/wp-content/uploads/2025/05/494960247_3089988681179285_184084486216789905_n.jpg
END:VEVENT
BEGIN:VEVENT
DTSTART;TZID=America/Mexico_City:20250607T100000
DTEND;TZID=America/Mexico_City:20250608T200000
DTSTAMP:20260420T025948
CREATED:20250424T021230Z
LAST-MODIFIED:20250424T021230Z
UID:19767-1749290400-1749412800@cenumex.com
SUMMARY:3a. Expo Numismática de Colima
DESCRIPTION:Exhibición\, compra y venta de Monedas\, Billetes y Medallas. Evento gratuito. \nConferencias y talleres: \n\nTaller de numismática para niños: “Primeros pasos de la numismática”. Con Noé Alejandro Panduro.\nConferencia-Taller: “Monedas mexicanas”. 17:00 horas. Incluye material y monedas antiguas.
URL:https://cenumex.com/evento/3a-expo-numismatica-de-colima/
LOCATION:Centro Comercial Zentralia\, Paseo Miguel de la Madrid Hurtado\, #301\, Colima\, Colima\, 28018\, Mexico
CATEGORIES:Exposición
ATTACH;FMTTYPE=image/jpeg:https://cenumex.com/wp-content/uploads/2025/04/491650509_620735054310100_8325785002410988496_n.jpg
ORGANIZER;CN="Club Numism%C3%A1tico de Colima":MAILTO:alfonsoooo34@gmail.com
END:VEVENT
BEGIN:VEVENT
DTSTART;TZID=America/Mexico_City:20250607T170000
DTEND;TZID=America/Mexico_City:20250608T180000
DTSTAMP:20260420T025948
CREATED:20250527T195047Z
LAST-MODIFIED:20250527T195437Z
UID:20011-1749315600-1749405600@cenumex.com
SUMMARY:Taller "Primeros Pasos de la Numismática"
DESCRIPTION:Taller práctico impartido dentro de la 3ra. Expo Numismática de Colima.
URL:https://cenumex.com/evento/taller-primeros-pasos-en-numismatica/
LOCATION:Centro Comercial Zentralia\, Paseo Miguel de la Madrid Hurtado\, #301\, Colima\, Colima\, 28018\, Mexico
CATEGORIES:Taller
ATTACH;FMTTYPE=image/jpeg:https://cenumex.com/wp-content/uploads/2025/05/500709811_645127798537492_4732759222276766344_n.jpg
ORGANIZER;CN="Club Numism%C3%A1tico de Colima":MAILTO:alfonsoooo34@gmail.com
END:VEVENT
BEGIN:VEVENT
DTSTART;TZID=America/Mexico_City:20250609T190000
DTEND;TZID=America/Mexico_City:20250609T210000
DTSTAMP:20260420T025948
CREATED:20250603T174911Z
LAST-MODIFIED:20250603T174911Z
UID:20060-1749495600-1749502800@cenumex.com
SUMMARY:Evolución en el Comercio Numismático en México 1821-2025
DESCRIPTION:La Sociedad Numismática de México invita a nuestra Asamblea Virtual No. 853\, con la conferencia de: Mónica Ramos: “Evolución del comercio numismático en México 1821 – 2025”.\n\n\n\nTambién\, se presentará la sección “Preguntando a”\, que contará con la participación de Juan Andrés Bazán\, creador del taller numismático infantil y juvenil “Mis primeras monedas de colección”. Puedes enviar alguna pregunta a Juan Andrés al correo: info@sonumex.org.mx; seleccionaremos las más interesantes y se las plantearemos durante esta sección.\n\n\n\nSigue la transmisión en Facebook Live: SONUMEX.
URL:https://cenumex.com/evento/evolucion-en-el-comercio-numismatico-en-mexico-1821-2025/
LOCATION:Facebook Live
CATEGORIES:Evento virtual
ATTACH;FMTTYPE=image/jpeg:https://cenumex.com/wp-content/uploads/2025/06/503797935_736102929082515_3017693928851650693_n.jpg
ORGANIZER;CN="Sociedad Numism%C3%A1tica de M%C3%A9xico":MAILTO:info@sonumex.org.mx
END:VEVENT
BEGIN:VEVENT
DTSTART;TZID=America/Mexico_City:20250618T090000
DTEND;TZID=America/Mexico_City:20250620T170000
DTSTAMP:20260420T025948
CREATED:20250318T191836Z
LAST-MODIFIED:20250318T191836Z
UID:19449-1750237200-1750438800@cenumex.com
SUMMARY:IX Expo Seminarios Numismáticos Lima 2025
DESCRIPTION:Conferencia Binacional México-Perú en la IX Expo Seminarios Numismáticos Lima 2025.
URL:https://cenumex.com/evento/ix-expo-seminarios-numismaticos-lima-2025/
LOCATION:La Moneda – Centro de Capacitación y Cultura\, Av. Arequipa # 4545\, col. Miraflores\, Lima\, Lima\, 4545\, Peru
CATEGORIES:Conferencia
ATTACH;FMTTYPE=image/jpeg:https://cenumex.com/wp-content/uploads/2025/03/484808053_3037050356473118_5880003706304477608_n.jpg
ORGANIZER;CN="Grupo Cultural Peruvian Banknotes":MAILTO:peruvianbanknotes@gmail.com
END:VEVENT
BEGIN:VEVENT
DTSTART;TZID=America/Mexico_City:20250619T100000
DTEND;TZID=America/Mexico_City:20250621T180000
DTSTAMP:20260420T025948
CREATED:20241111T173800Z
LAST-MODIFIED:20250616T175216Z
UID:18123-1750327200-1750528800@cenumex.com
SUMMARY:Convención Numismática y Coleccionables Monterrey 2025
DESCRIPTION:
URL:https://cenumex.com/evento/evento-numismatico-en-monterrey-nuevo-leon/
LOCATION:Four Points Galerias Monterrey\, Av Insurgentes 3961\, Monterrey\, Nuevo León\, Mexico
CATEGORIES:Convención
ATTACH;FMTTYPE=image/jpeg:https://cenumex.com/wp-content/uploads/2024/11/480533878_1094097612518457_8563844301289041421_n.jpg
ORGANIZER;CN="Sociedad Numism%C3%A1tica de Monterrey":MAILTO:ociedadnumismaticademonterrey@hotmail.com
END:VEVENT
BEGIN:VEVENT
DTSTART;TZID=America/Mexico_City:20250620T123000
DTEND;TZID=America/Mexico_City:20250620T140000
DTSTAMP:20260420T025948
CREATED:20250616T175826Z
LAST-MODIFIED:20250616T175826Z
UID:20243-1750422600-1750428000@cenumex.com
SUMMARY:Ponencia "Amonedación del General Insurgente Don José Ma. Morelos"
DESCRIPTION:Ponencia Magistral “Amonedación del General Insurgente Don José Ma. Morelos” que se presentará dentro de la Convención Numismática y Coleccionables Monterrey 2025. Será impartida por Luis M. Gómez Wulschner. \n  \nFour Points Galerías Monterrey\, Salón Chipinque.
URL:https://cenumex.com/evento/ponencia-amonedacion-del-general-insurgente-don-jose-ma-morelos/
LOCATION:Four Points Galerias Monterrey\, Av Insurgentes 3961\, Monterrey\, Nuevo León\, Mexico
CATEGORIES:Conferencia
ATTACH;FMTTYPE=image/jpeg:https://cenumex.com/wp-content/uploads/2025/06/506810583_2137879580043138_2101086276203745241_n.jpg
ORGANIZER;CN="Sociedad Numism%C3%A1tica de Monterrey":MAILTO:ociedadnumismaticademonterrey@hotmail.com
END:VEVENT
BEGIN:VEVENT
DTSTART;TZID=America/Mexico_City:20250620T170000
DTEND;TZID=America/Mexico_City:20250620T183000
DTSTAMP:20260420T025948
CREATED:20250616T180138Z
LAST-MODIFIED:20250616T180138Z
UID:20247-1750438800-1750444200@cenumex.com
SUMMARY:Ponencia "Consideraciones sobre la Amonedación de Sombrerete\, Zac. 1810-1812"
DESCRIPTION:Ponencia Magistral “Consideraciones sobre la amonedación de Sombrerete\, Zac. 1810-1812” que se presentará dentro de la Convención Numismática y Coleccionables Monterrey 2025. Será impartida por Luis M. Gómez Wulschner. \n  \nFour Points Galerías Monterrey\, Salón Chipinque.
URL:https://cenumex.com/evento/ponencia-consideraciones-sobre-la-amonedacion-de-sombrerete-zac-1810-1812/
LOCATION:Four Points Galerias Monterrey\, Av Insurgentes 3961\, Monterrey\, Nuevo León\, Mexico
CATEGORIES:Conferencia
ATTACH;FMTTYPE=image/jpeg:https://cenumex.com/wp-content/uploads/2025/06/506799897_2137879603376469_7296013256021968142_n.jpg
ORGANIZER;CN="Sociedad Numism%C3%A1tica de Monterrey":MAILTO:ociedadnumismaticademonterrey@hotmail.com
END:VEVENT
BEGIN:VEVENT
DTSTART;TZID=America/Mexico_City:20250624T113000
DTEND;TZID=America/Mexico_City:20250731T130000
DTSTAMP:20260420T025948
CREATED:20250624T013218Z
LAST-MODIFIED:20250725T162334Z
UID:20283-1750764600-1753966800@cenumex.com
SUMMARY:Talleres "Moneda Mexicana"
DESCRIPTION:Descubre la historia de las monedas mexicanas. Además\, haz tu propia colección numismática en este taller gratuito del Museo Interactivo de Economía (MIDE). \nMartes a domingo\, todo junio y julio\, de 11:30 a 13:00. \nLos talleres tienen cupo limitado\, por lo que se sugiere llegar 15 minutos antes.
URL:https://cenumex.com/evento/talleres-moneda-mexicana/
LOCATION:Museo Interactivo de Economía (MIDE)\, Calle de Tacuba #17\, Colonia Centro\, Ciudad de México\, Ciudad de México\, 06000\, Mexico
CATEGORIES:Taller
ATTACH;FMTTYPE=image/jpeg:https://cenumex.com/wp-content/uploads/2025/06/imgi_71_512666619_1134459755381878_1212691196924344033_n.jpg
END:VEVENT
BEGIN:VEVENT
DTSTART;TZID=America/Mexico_City:20250628T100000
DTEND;TZID=America/Mexico_City:20250628T170000
DTSTAMP:20260420T025948
CREATED:20250616T175041Z
LAST-MODIFIED:20250616T175041Z
UID:20236-1751104800-1751130000@cenumex.com
SUMMARY:Encuentro de Numismáticos Oaxaqueños
DESCRIPTION:La Sociedad Numismática de Oaxaca invita al Encuentro de Numismáticos Oaxaqueños\, organizado en el Búnker del Museo Numismático y Filatélico de la SONUOAX.
URL:https://cenumex.com/evento/encuentro-de-numismaticos-oaxaquenos-6/
LOCATION:Bunker de la Sociedad Numismática de Oaxaca\, Calle de las Rosas\, #412-A\, Oaxaca\, Oaxaca\, 68050\, Mexico
CATEGORIES:Reunión
ATTACH;FMTTYPE=image/jpeg:https://cenumex.com/wp-content/uploads/2025/06/506467509_662191760149284_1305929836708273879_n.jpg
END:VEVENT
BEGIN:VEVENT
DTSTART;TZID=America/Mexico_City:20250629T100000
DTEND;TZID=America/Mexico_City:20250629T140000
DTSTAMP:20260420T025948
CREATED:20250624T232023Z
LAST-MODIFIED:20250624T232023Z
UID:20296-1751191200-1751205600@cenumex.com
SUMMARY:Encuentro Numismático
DESCRIPTION:En este encuentro numismático del mes de junio habrá Exhibición de Monedas\, Billetes y Medallas. Además\, se proporcionarán asesorías gratuitas. \nLa entrada es libre
URL:https://cenumex.com/evento/encuentro-numismatico-4/
LOCATION:Museo de Numismática del Estado de México\, Jesús Reyes Heroles #302\, San Buenaventura\, Toluca\, Estado de México\, 50110\, Mexico
CATEGORIES:Reunión
ATTACH;FMTTYPE=image/jpeg:https://cenumex.com/wp-content/uploads/2025/06/512665095_1062580689301171_2531454834608025040_n.jpg
END:VEVENT
END:VCALENDAR