BEGIN:VCALENDAR
VERSION:2.0
PRODID:-//Cenumex - ECPv6.15.20//NONSGML v1.0//EN
CALSCALE:GREGORIAN
METHOD:PUBLISH
X-WR-CALNAME:Cenumex
X-ORIGINAL-URL:https://cenumex.com
X-WR-CALDESC:Eventos para Cenumex
REFRESH-INTERVAL;VALUE=DURATION:PT1H
X-Robots-Tag:noindex
X-PUBLISHED-TTL:PT1H
BEGIN:VTIMEZONE
TZID:America/Mexico_City
BEGIN:STANDARD
TZOFFSETFROM:-0600
TZOFFSETTO:-0600
TZNAME:CST
DTSTART:20240101T000000
END:STANDARD
END:VTIMEZONE
BEGIN:VEVENT
DTSTART;TZID=America/Mexico_City:20250726T100000
DTEND;TZID=America/Mexico_City:20250726T170000
DTSTAMP:20260420T195541
CREATED:20250709T190520Z
LAST-MODIFIED:20250709T201803Z
UID:20397-1753524000-1753549200@cenumex.com
SUMMARY:7mo. Encuentro de Numismática y Filatelia de Oaxaca
DESCRIPTION:Compra y Venta de Monedas\, Billetes y Timbres. \nEntrada Libre.
URL:https://cenumex.com/evento/7mo-encuentro-de-numismatica-y-filatelia-de-oaxaca/
LOCATION:Hotel Posada las Casas\, Las Casas 507\, Oaxaca\, Oaxaca\, 68000\, Mexico
CATEGORIES:Reunión
ATTACH;FMTTYPE=image/jpeg:https://cenumex.com/wp-content/uploads/2025/07/imgi_28_516100656_681795238188936_8990315373050049020_n.jpg
END:VEVENT
END:VCALENDAR