BEGIN:VCALENDAR
VERSION:2.0
PRODID:-//Cenumex - ECPv6.15.20//NONSGML v1.0//EN
CALSCALE:GREGORIAN
METHOD:PUBLISH
X-ORIGINAL-URL:https://cenumex.com
X-WR-CALDESC:Eventos para Cenumex
REFRESH-INTERVAL;VALUE=DURATION:PT1H
X-Robots-Tag:noindex
X-PUBLISHED-TTL:PT1H
BEGIN:VTIMEZONE
TZID:America/Mexico_City
BEGIN:STANDARD
TZOFFSETFROM:-0600
TZOFFSETTO:-0600
TZNAME:CST
DTSTART:20230101T000000
END:STANDARD
END:VTIMEZONE
BEGIN:VEVENT
DTSTART;TZID=America/Mexico_City:20241214T100000
DTEND;TZID=America/Mexico_City:20241214T170000
DTSTAMP:20260421T020757
CREATED:20241212T181930Z
LAST-MODIFIED:20241212T181930Z
UID:18530-1734170400-1734195600@cenumex.com
SUMMARY:Encuentro de la Sociedad Numismática de Oaxaca
DESCRIPTION:Penúltimo encuentro de numismáticos oaxaqueños del mes de diciembre\, el cual se llevará a cabo en el búnker de la Sociedad Numismática de Oaxaca (SONUOAX) en un horario de 10 am a 5 PM.Habrá exhibición\, compra-venta de monedas y billetes\, timbres postales\, antigüedades y muchos artículos Numismáticos más.
URL:https://cenumex.com/evento/encuentro-de-la-sociedad-numismatica-de-oaxaca/
LOCATION:Bunker de la Sociedad Numismática de Oaxaca\, Calle de las Rosas\, #412-A\, Oaxaca\, Oaxaca\, 68050\, Mexico
CATEGORIES:Reunión
ATTACH;FMTTYPE=image/jpeg:https://cenumex.com/wp-content/uploads/2024/12/469577661_525212887180506_4342837886029220147_n.jpg
END:VEVENT
END:VCALENDAR