BEGIN:VCALENDAR
VERSION:2.0
PRODID:-//Cenumex - ECPv6.15.20//NONSGML v1.0//EN
CALSCALE:GREGORIAN
METHOD:PUBLISH
X-ORIGINAL-URL:https://cenumex.com
X-WR-CALDESC:Eventos para Cenumex
REFRESH-INTERVAL;VALUE=DURATION:PT1H
X-Robots-Tag:noindex
X-PUBLISHED-TTL:PT1H
BEGIN:VTIMEZONE
TZID:America/Mexico_City
BEGIN:STANDARD
TZOFFSETFROM:-0600
TZOFFSETTO:-0600
TZNAME:CST
DTSTART:20230101T000000
END:STANDARD
END:VTIMEZONE
BEGIN:VEVENT
DTSTART;TZID=America/Mexico_City:20241019T100000
DTEND;TZID=America/Mexico_City:20241019T170000
DTSTAMP:20260423T054552
CREATED:20241014T235445Z
LAST-MODIFIED:20241014T235617Z
UID:17830-1729332000-1729357200@cenumex.com
SUMMARY:Encuentro de numismáticos oaxaqueños
DESCRIPTION:Exposición\, venta y avalúo de monedas y billetes coleccionables y timbres postales.
URL:https://cenumex.com/evento/encuentro-de-numismaticos-oaxaquenos/
LOCATION:Hotel Posada las Casas\, Las Casas 507\, Oaxaca\, Oaxaca\, 68000\, Mexico
CATEGORIES:Reunión
ATTACH;FMTTYPE=image/jpeg:https://cenumex.com/wp-content/uploads/2024/10/WhatsApp-Image-2024-10-14-at-4.06.23-PM.jpeg
END:VEVENT
END:VCALENDAR