BEGIN:VCALENDAR
VERSION:2.0
PRODID:-//Cenumex - ECPv6.15.20//NONSGML v1.0//EN
CALSCALE:GREGORIAN
METHOD:PUBLISH
X-ORIGINAL-URL:https://cenumex.com
X-WR-CALDESC:Eventos para Cenumex
REFRESH-INTERVAL;VALUE=DURATION:PT1H
X-Robots-Tag:noindex
X-PUBLISHED-TTL:PT1H
BEGIN:VTIMEZONE
TZID:America/Mexico_City
BEGIN:STANDARD
TZOFFSETFROM:-0600
TZOFFSETTO:-0600
TZNAME:CST
DTSTART:20240101T000000
END:STANDARD
END:VTIMEZONE
BEGIN:VEVENT
DTSTART;TZID=America/Mexico_City:20250628T100000
DTEND;TZID=America/Mexico_City:20250628T170000
DTSTAMP:20260420T040637
CREATED:20250616T175041Z
LAST-MODIFIED:20250616T175041Z
UID:20236-1751104800-1751130000@cenumex.com
SUMMARY:Encuentro de Numismáticos Oaxaqueños
DESCRIPTION:La Sociedad Numismática de Oaxaca invita al Encuentro de Numismáticos Oaxaqueños\, organizado en el Búnker del Museo Numismático y Filatélico de la SONUOAX.
URL:https://cenumex.com/evento/encuentro-de-numismaticos-oaxaquenos-6/
LOCATION:Bunker de la Sociedad Numismática de Oaxaca\, Calle de las Rosas\, #412-A\, Oaxaca\, Oaxaca\, 68050\, Mexico
CATEGORIES:Reunión
ATTACH;FMTTYPE=image/jpeg:https://cenumex.com/wp-content/uploads/2025/06/506467509_662191760149284_1305929836708273879_n.jpg
END:VEVENT
BEGIN:VEVENT
DTSTART;TZID=America/Mexico_City:20250629T100000
DTEND;TZID=America/Mexico_City:20250629T140000
DTSTAMP:20260420T040637
CREATED:20250624T232023Z
LAST-MODIFIED:20250624T232023Z
UID:20296-1751191200-1751205600@cenumex.com
SUMMARY:Encuentro Numismático
DESCRIPTION:En este encuentro numismático del mes de junio habrá Exhibición de Monedas\, Billetes y Medallas. Además\, se proporcionarán asesorías gratuitas. \nLa entrada es libre
URL:https://cenumex.com/evento/encuentro-numismatico-4/
LOCATION:Museo de Numismática del Estado de México\, Jesús Reyes Heroles #302\, San Buenaventura\, Toluca\, Estado de México\, 50110\, Mexico
CATEGORIES:Reunión
ATTACH;FMTTYPE=image/jpeg:https://cenumex.com/wp-content/uploads/2025/06/512665095_1062580689301171_2531454834608025040_n.jpg
END:VEVENT
END:VCALENDAR