BEGIN:VCALENDAR
VERSION:2.0
PRODID:-//Cenumex - ECPv6.15.20//NONSGML v1.0//EN
CALSCALE:GREGORIAN
METHOD:PUBLISH
X-WR-CALNAME:Cenumex
X-ORIGINAL-URL:https://cenumex.com
X-WR-CALDESC:Eventos para Cenumex
REFRESH-INTERVAL;VALUE=DURATION:PT1H
X-Robots-Tag:noindex
X-PUBLISHED-TTL:PT1H
BEGIN:VTIMEZONE
TZID:America/Mexico_City
BEGIN:STANDARD
TZOFFSETFROM:-0600
TZOFFSETTO:-0600
TZNAME:CST
DTSTART:20240101T000000
END:STANDARD
END:VTIMEZONE
BEGIN:VEVENT
DTSTART;TZID=America/Mexico_City:20250315T100000
DTEND;TZID=America/Mexico_City:20250315T170000
DTSTAMP:20260420T192441
CREATED:20250303T152551Z
LAST-MODIFIED:20250303T152551Z
UID:19348-1742032800-1742058000@cenumex.com
SUMMARY:Encuentro de Numismáticos Oaxaqueños
DESCRIPTION:
URL:https://cenumex.com/evento/encuentro-de-numismaticos-oaxaquenos-4/
LOCATION:Hotel Posada las Casas\, Las Casas 507\, Oaxaca\, Oaxaca\, 68000\, Mexico
CATEGORIES:Reunión
ATTACH;FMTTYPE=image/jpeg:https://cenumex.com/wp-content/uploads/2025/03/476675075_584225304612597_7676154169447970041_n.jpg
END:VEVENT
END:VCALENDAR