BEGIN:VCALENDAR
VERSION:2.0
PRODID:-//Cenumex - ECPv6.15.20//NONSGML v1.0//EN
CALSCALE:GREGORIAN
METHOD:PUBLISH
X-ORIGINAL-URL:https://cenumex.com
X-WR-CALDESC:Eventos para Cenumex
REFRESH-INTERVAL;VALUE=DURATION:PT1H
X-Robots-Tag:noindex
X-PUBLISHED-TTL:PT1H
BEGIN:VTIMEZONE
TZID:America/Mexico_City
BEGIN:STANDARD
TZOFFSETFROM:-0600
TZOFFSETTO:-0600
TZNAME:CST
DTSTART:20240101T000000
END:STANDARD
END:VTIMEZONE
BEGIN:VEVENT
DTSTART;TZID=America/Mexico_City:20250215T083000
DTEND;TZID=America/Mexico_City:20250215T120000
DTSTAMP:20260420T225510
CREATED:20250204T165208Z
LAST-MODIFIED:20250204T165208Z
UID:19103-1739608200-1739620800@cenumex.com
SUMMARY:Caminata "Ruta de la Plata"
DESCRIPTION:El Departamento de Cultura del Club Numismático del Estado de Hidalgo invita a la primera Caminata “ruta de la plata” en el centro histórico de Pachuca\, Hidalgo\, el próximo sábado 15 de febrero a las 8:30 horas. La caminata inicia en la Plaza Constitución\, frente al Mercado 1 de Mayo\, y se recorrerán 10 puntos históricos referentes a la numismática. Posteriormente\, habrá un desayuno en el restaurante “la Blanca”\, donde se desarrollará la dinámica “carpetazo” con intercambio de monedas entre los asistentes.
URL:https://cenumex.com/evento/caminata-ruta-de-la-plata/
LOCATION:Plaza de la Constitución\, Colonia Centro\, Pachuca\, Hidalgo\, 42000\, Mexico
CATEGORIES:Reunión
ATTACH;FMTTYPE=image/jpeg:https://cenumex.com/wp-content/uploads/2025/02/Imagen-40.jpg
END:VEVENT
END:VCALENDAR