BEGIN:VCALENDAR
VERSION:2.0
PRODID:-//Cenumex - ECPv6.15.20//NONSGML v1.0//EN
CALSCALE:GREGORIAN
METHOD:PUBLISH
X-WR-CALNAME:Cenumex
X-ORIGINAL-URL:https://cenumex.com
X-WR-CALDESC:Eventos para Cenumex
REFRESH-INTERVAL;VALUE=DURATION:PT1H
X-Robots-Tag:noindex
X-PUBLISHED-TTL:PT1H
BEGIN:VTIMEZONE
TZID:America/Mexico_City
BEGIN:STANDARD
TZOFFSETFROM:-0600
TZOFFSETTO:-0600
TZNAME:CST
DTSTART:20240101T000000
END:STANDARD
END:VTIMEZONE
BEGIN:VEVENT
DTSTART;TZID=America/Mexico_City:20250215T130000
DTEND;TZID=America/Mexico_City:20250215T143000
DTSTAMP:20260420T071432
CREATED:20250211T023146Z
LAST-MODIFIED:20250211T023146Z
UID:19178-1739624400-1739629800@cenumex.com
SUMMARY:Presentación "Yo\, la peor de todas" en la XI Convención Numismática y Filatélica Yucatán 2025
DESCRIPTION:Presentación “Yo\, la peor de todas”\, por Yazmin Gaspar. Dentro de la XI Convención Numismática y Filatélica Yucatán 2025.
URL:https://cenumex.com/evento/presentacion-yo-la-peor-de-todas-en-la-xi-convencion-numismatica-y-filatelica-yucatan-2025/
LOCATION:Club de Leones de Mérida\, Av. Colón 198-A\, Colonia García Ginerés\, Mérida\, Yucatán\, 97070\, Mexico
CATEGORIES:Presentación
ATTACH;FMTTYPE=image/jpeg:https://cenumex.com/wp-content/uploads/2025/02/476799343_1035750668583376_5262825948088941361_n.jpg
END:VEVENT
END:VCALENDAR