BEGIN:VCALENDAR
VERSION:2.0
PRODID:-//Cenumex - ECPv6.15.20//NONSGML v1.0//EN
CALSCALE:GREGORIAN
METHOD:PUBLISH
X-ORIGINAL-URL:https://cenumex.com
X-WR-CALDESC:Eventos para Cenumex
REFRESH-INTERVAL;VALUE=DURATION:PT1H
X-Robots-Tag:noindex
X-PUBLISHED-TTL:PT1H
BEGIN:VTIMEZONE
TZID:America/Mexico_City
BEGIN:STANDARD
TZOFFSETFROM:-0600
TZOFFSETTO:-0600
TZNAME:CST
DTSTART:20250101T000000
END:STANDARD
END:VTIMEZONE
BEGIN:VEVENT
DTSTART;TZID=America/Mexico_City:20260418T120000
DTEND;TZID=America/Mexico_City:20260418T140000
DTSTAMP:20260420T140929
CREATED:20260415T191917Z
LAST-MODIFIED:20260415T191917Z
UID:23154-1776513600-1776520800@cenumex.com
SUMMARY:Fauna en la Moneda Mexicana
DESCRIPTION:Conferencia “Fauna en la Moneda Mexicana” impartida por la Lic. Elizabeth Janet Mejía Blázquez.
URL:https://cenumex.com/evento/fauna-en-la-moneda-mexicana/
LOCATION:Museo Municipal de la Moneda\, Avenida Revolución #1000\, Zona Centro\, Boca del Río\, Veracruz\, 92490\, Mexico
CATEGORIES:Conferencia
ATTACH;FMTTYPE=image/jpeg:https://cenumex.com/wp-content/uploads/2026/04/imgi_26_671418994_1508335527966312_1970912664723221591_n.jpg
ORGANIZER;CN="Museo Municipal de la Moneda":MAILTO:munumo@bocadelrio.gob.mx
END:VEVENT
END:VCALENDAR