BEGIN:VCALENDAR
VERSION:2.0
PRODID:-//Cenumex - ECPv6.15.20//NONSGML v1.0//EN
CALSCALE:GREGORIAN
METHOD:PUBLISH
X-WR-CALNAME:Cenumex
X-ORIGINAL-URL:https://cenumex.com
X-WR-CALDESC:Eventos para Cenumex
REFRESH-INTERVAL;VALUE=DURATION:PT1H
X-Robots-Tag:noindex
X-PUBLISHED-TTL:PT1H
BEGIN:VTIMEZONE
TZID:America/Mexico_City
BEGIN:STANDARD
TZOFFSETFROM:-0600
TZOFFSETTO:-0600
TZNAME:CST
DTSTART:20240101T000000
END:STANDARD
END:VTIMEZONE
BEGIN:VEVENT
DTSTART;TZID=America/Mexico_City:20251116T130000
DTEND;TZID=America/Mexico_City:20251116T140000
DTSTAMP:20260425T222109
CREATED:20251112T184210Z
LAST-MODIFIED:20251112T184210Z
UID:21959-1763298000-1763301600@cenumex.com
SUMMARY:Medallas del Centenario de Mexicali
DESCRIPTION:Conferencia “Medallas del Centenario de Mexicali” a cargo de Wenceslao Mayorga como parte de las actividades de la Primera Convención Numismática de Mexicali.
URL:https://cenumex.com/evento/medallas-del-centenario-de-mexicali/
LOCATION:Casa de la Cultura de Mexicali\, Av. Francisco I. Madero #399\, Colonia Primera\, Mexicali\, Baja California\, 21100\, Mexico
CATEGORIES:Conferencia
ATTACH;FMTTYPE=image/jpeg:https://cenumex.com/wp-content/uploads/2025/11/imgi_29_581781343_122149785746807368_8343437170936818149_n.jpg
END:VEVENT
END:VCALENDAR