BEGIN:VCALENDAR
VERSION:2.0
PRODID:-//Cenumex - ECPv6.15.20//NONSGML v1.0//EN
CALSCALE:GREGORIAN
METHOD:PUBLISH
X-ORIGINAL-URL:https://cenumex.com
X-WR-CALDESC:Eventos para Cenumex
REFRESH-INTERVAL;VALUE=DURATION:PT1H
X-Robots-Tag:noindex
X-PUBLISHED-TTL:PT1H
BEGIN:VTIMEZONE
TZID:America/Mexico_City
BEGIN:STANDARD
TZOFFSETFROM:-0600
TZOFFSETTO:-0600
TZNAME:CST
DTSTART:20240101T000000
END:STANDARD
END:VTIMEZONE
BEGIN:VEVENT
DTSTART;TZID=America/Mexico_City:20251115T140000
DTEND;TZID=America/Mexico_City:20251115T150000
DTSTAMP:20260425T222346
CREATED:20251110T182819Z
LAST-MODIFIED:20251110T182819Z
UID:21876-1763215200-1763218800@cenumex.com
SUMMARY:El Billete Revolucionario que Circuló en Baja California
DESCRIPTION:Conferencia Magna a cargo de Ricardo de León Tallavas en la Primera Convención Numismática de Mexicali.
URL:https://cenumex.com/evento/el-billete-revolucionario-que-circulo-en-baja-california/
LOCATION:Casa de la Cultura de Mexicali\, Av. Francisco I. Madero #399\, Colonia Primera\, Mexicali\, Baja California\, 21100\, Mexico
CATEGORIES:Conferencia
ATTACH;FMTTYPE=image/jpeg:https://cenumex.com/wp-content/uploads/2025/11/imgi_27_578248090_25373735682251488_1095352066486298171_n.jpg
END:VEVENT
END:VCALENDAR