BEGIN:VCALENDAR
VERSION:2.0
PRODID:-//Cenumex - ECPv6.15.20//NONSGML v1.0//EN
CALSCALE:GREGORIAN
METHOD:PUBLISH
X-ORIGINAL-URL:https://cenumex.com
X-WR-CALDESC:Eventos para Cenumex
REFRESH-INTERVAL;VALUE=DURATION:PT1H
X-Robots-Tag:noindex
X-PUBLISHED-TTL:PT1H
BEGIN:VTIMEZONE
TZID:America/Mexico_City
BEGIN:STANDARD
TZOFFSETFROM:-0600
TZOFFSETTO:-0600
TZNAME:CST
DTSTART:20240101T000000
END:STANDARD
END:VTIMEZONE
BEGIN:VEVENT
DTSTART;TZID=America/Mexico_City:20251007T190000
DTEND;TZID=America/Mexico_City:20251007T210000
DTSTAMP:20260425T222044
CREATED:20251003T164353Z
LAST-MODIFIED:20251003T164353Z
UID:21316-1759863600-1759870800@cenumex.com
SUMMARY:Bancos Regios y los 100 años del Banco de México
DESCRIPTION:Conferencia “Bancos Regios y los 100 años del Banco de México” a cargo de Ricardo de León Tallavas. Evento gratuito de cupo limitado.
URL:https://cenumex.com/evento/bancos-regios-y-los-100-anos-del-banco-de-mexico/
LOCATION:Museo de Historia Mexicana\, Calle Dr. José María Coss #445\, Colonia Centro\, Monterrey\, Nuevo León\, 64000\, Mexico
CATEGORIES:Conferencia
ATTACH;FMTTYPE=image/jpeg:https://cenumex.com/wp-content/uploads/2025/10/imgi_36_557596454_122145997388807368_5096142174323817025_n.jpg
END:VEVENT
BEGIN:VEVENT
DTSTART;TZID=America/Mexico_City:20251008T190000
DTEND;TZID=America/Mexico_City:20251008T210000
DTSTAMP:20260425T222044
CREATED:20251008T184107Z
LAST-MODIFIED:20251008T184817Z
UID:21429-1759950000-1759957200@cenumex.com
SUMMARY:Papel en los Bolsillos: los Billetes de Coahuila (1913-1916)
DESCRIPTION:Conferencia “Papel en los Bolsillos: los Billetes de Coahuila (1913-1916)”\, que se presentará en el Archivo General del Estado de Coahuila y tendrá como ponente principal a Ricardo de León Tallavas.
URL:https://cenumex.com/evento/papel-en-los-bolsillos-los-billetes-de-coahuila-1913-1916/
LOCATION:Archivo General del Estado de Coahuila (AGEC)\, Calle Juan Aldama #381\, Zona Centro\, Saltillo\, Coahuila\, 25000\, Mexico
CATEGORIES:Conferencia
ATTACH;FMTTYPE=image/jpeg:https://cenumex.com/wp-content/uploads/2025/10/imgi_42_557949611_122146469804807368_8157595697442490091_n-1.jpg
ORGANIZER;CN="Gobierno del Estado de Coahuila":MAILTO:atencionciudadana@coahuila.gob.mx
END:VEVENT
BEGIN:VEVENT
DTSTART;TZID=America/Mexico_City:20251009T180000
DTEND;TZID=America/Mexico_City:20251009T200000
DTSTAMP:20260425T222044
CREATED:20251003T172742Z
LAST-MODIFIED:20251003T172742Z
UID:21325-1760032800-1760040000@cenumex.com
SUMMARY:La Medallística Mexicana y su Presencia en la Actualidad
DESCRIPTION:El Museo Banco de México organiza el diálogo “La Medallística Mexicana y su Presencia en la Actualidad”\, en el cual participa Siddharta Sánchez Murillo (presidente de la SONUMEX)\, Elizabeth Mar Juárez (Directora del Instituto Mexicano del Petróleo) y Marcela García Ramírez (Historiadora de la Casa de Moneda de México). \nReserva tus boletos en el siguiente link.
URL:https://cenumex.com/evento/la-medallistica-mexicana-y-su-presencia-en-la-actualidad/
LOCATION:Museo Banco de Mexico\, Av 5 de mayo #2 \, Centro histórico\, CDMX\, CDMX\, 06000\, Mexico
CATEGORIES:Conferencia
ATTACH;FMTTYPE=image/jpeg:https://cenumex.com/wp-content/uploads/2025/10/imgi_42_558802195_804108165457837_4819040632845459276_n.jpg
END:VEVENT
BEGIN:VEVENT
DTSTART;TZID=America/Mexico_City:20251010T180000
DTEND;TZID=America/Mexico_City:20251010T210000
DTSTAMP:20260425T222044
CREATED:20251007T234501Z
LAST-MODIFIED:20251007T234501Z
UID:21417-1760119200-1760130000@cenumex.com
SUMMARY:Simposio de la Sociedad Numismática de Sonora
DESCRIPTION:
URL:https://cenumex.com/evento/simposio-de-la-sociedad-numismatica-de-sonora/
LOCATION:Museo de Arte de Sonora (MUSAS)\, Blvd. Agustín de Vildósola S/N\, Proyecto Rio Sonora Hermosillo XXI\, Hermosillo\, Sonora\, 83270\, Mexico
CATEGORIES:Conferencia
ATTACH;FMTTYPE=image/jpeg:https://cenumex.com/wp-content/uploads/2025/10/imgi_62_558972349_122146417736807368_233959816006819731_n.jpg
END:VEVENT
BEGIN:VEVENT
DTSTART;TZID=America/Mexico_City:20251013T190000
DTEND;TZID=America/Mexico_City:20251013T210000
DTSTAMP:20260425T222044
CREATED:20251010T185614Z
LAST-MODIFIED:20251010T185614Z
UID:21512-1760382000-1760389200@cenumex.com
SUMMARY:Un Virrey y el Establecimiento de la Ceca de México en 1535
DESCRIPTION:La Sociedad Numismática de México (SONUMEX) invita a su Asamblea Virtual No. 857 (Electiva)\, con la conferencia magna: Un Virrey y el establecimiento de la Ceca de México en 1535\, a cargo de Ricardo de León Tallavas. \nEmiliano Puga también presentará la sección “Noticias Numismáticas”.
URL:https://cenumex.com/evento/un-virrey-y-el-establecimiento-de-la-ceca-de-mexico-en-1535/
LOCATION:Facebook Live (SONUMEX)\, Mexico
CATEGORIES:Conferencia
ATTACH;FMTTYPE=image/jpeg:https://cenumex.com/wp-content/uploads/2025/10/imgi_48_558888153_840052368687570_7897721937318806818_n.jpg
ORGANIZER;CN="Sociedad Numism%C3%A1tica de M%C3%A9xico":MAILTO:info@sonumex.org.mx
END:VEVENT
BEGIN:VEVENT
DTSTART;TZID=America/Mexico_City:20251016T200000
DTEND;TZID=America/Mexico_City:20251016T220000
DTSTAMP:20260425T222044
CREATED:20251008T190156Z
LAST-MODIFIED:20251008T190156Z
UID:21447-1760644800-1760652000@cenumex.com
SUMMARY:Mitote Numismático II
DESCRIPTION:Ciclo de Conferencias “Mitote Numismático” organizado por la Sociedad Numismática de Monterrey del 15 al 17 de octubre de 2025. \n  \nConferencia I: “Las fichas de hacienda en Yucatán: un viaje histórico a través de una pieza de la colección” a cargo de Mónica Ramos Rodríguez. \nConferencia II: “Retratos oficiales de la Reina Isabel II en monedas y billetes” a cargo de Luis Manzano Eddy.
URL:https://cenumex.com/evento/mitote-numismatico-ii/
LOCATION:Facebook Live (Sonumty AC)\, Mexico
CATEGORIES:Conferencia
ATTACH;FMTTYPE=image/jpeg:https://cenumex.com/wp-content/uploads/2025/10/imgi_22_558842917_1272070484721168_7151145296484720297_n.jpg
ORGANIZER;CN="Sociedad Numism%C3%A1tica de Monterrey":MAILTO:ociedadnumismaticademonterrey@hotmail.com
END:VEVENT
BEGIN:VEVENT
DTSTART;TZID=America/Mexico_City:20251017T200000
DTEND;TZID=America/Mexico_City:20251017T220000
DTSTAMP:20260425T222044
CREATED:20251008T191043Z
LAST-MODIFIED:20251008T191043Z
UID:21449-1760731200-1760738400@cenumex.com
SUMMARY:Mitote Numismático III
DESCRIPTION:Ciclo de Conferencias “Mitote Numismático” organizado por la Sociedad Numismática de Monterrey del 15 al 17 de octubre de 2025. \n  \nConferencia I: “Cuba: del trueque al trueque” a cargo de Christian Baeza Anaya. \nConferencia II: “Descubrimiento del diseñador anónimo” a cargo de Rubén Leal Garza. \n 
URL:https://cenumex.com/evento/mitote-numismatico-iii/
LOCATION:Facebook Live (Sonumty AC)\, Mexico
CATEGORIES:Conferencia
ATTACH;FMTTYPE=image/jpeg:https://cenumex.com/wp-content/uploads/2025/10/imgi_29_558881168_1272070258054524_9205310177836956831_n.jpg
ORGANIZER;CN="Sociedad Numism%C3%A1tica de Monterrey":MAILTO:ociedadnumismaticademonterrey@hotmail.com
END:VEVENT
BEGIN:VEVENT
DTSTART;TZID=America/Mexico_City:20251020T170000
DTEND;TZID=America/Mexico_City:20251020T190000
DTSTAMP:20260425T222044
CREATED:20251015T045516Z
LAST-MODIFIED:20251015T045516Z
UID:21538-1760979600-1760986800@cenumex.com
SUMMARY:La Única Moneda de Independencia de Plata Hidalguense
DESCRIPTION:Conferencia “La Única Moneda de Independencia de Plata Hidalguense” a cargo de Ricardo de León Tallavas.
URL:https://cenumex.com/evento/la-unica-moneda-de-independencia-de-plata-hidalguense/
LOCATION:Centro Cultural Regional de Real de Monte\, Calle Teodomiro Manzano #5\, Colonia El Hospital\, Mineral del Monte\, Hidalgo\, 42130\, Mexico
CATEGORIES:Conferencia
ATTACH;FMTTYPE=image/jpeg:https://cenumex.com/wp-content/uploads/2025/10/imgi_51_565704899_844164714848853_6091067461050063209_n.jpg
END:VEVENT
BEGIN:VEVENT
DTSTART;TZID=America/Mexico_City:20251028T190000
DTEND;TZID=America/Mexico_City:20251028T210000
DTSTAMP:20260425T222044
CREATED:20251028T202203Z
LAST-MODIFIED:20251028T202203Z
UID:21755-1761678000-1761685200@cenumex.com
SUMMARY:Plata Española: Moneda Internacional Durante Siglos
DESCRIPTION:Conferencia de Ricardo de León Tallavas\, coordinador: Vicente Bosch.
URL:https://cenumex.com/evento/plata-espanola-moneda-internacional-durante-siglos/
LOCATION:YouTube Live (Ateneo Mercantil de Valencia)
CATEGORIES:Conferencia
ATTACH;FMTTYPE=image/jpeg:https://cenumex.com/wp-content/uploads/2025/10/imgi_28_573355077_25438197382451271_2951922512207268408_n.jpg
ORGANIZER;CN="Ateneo Mercantil de Valencia":MAILTO:ateneo@ateneovalencia.es
END:VEVENT
END:VCALENDAR