BEGIN:VCALENDAR
VERSION:2.0
PRODID:-//Cenumex - ECPv6.15.20//NONSGML v1.0//EN
CALSCALE:GREGORIAN
METHOD:PUBLISH
X-WR-CALNAME:Cenumex
X-ORIGINAL-URL:https://cenumex.com
X-WR-CALDESC:Eventos para Cenumex
REFRESH-INTERVAL;VALUE=DURATION:PT1H
X-Robots-Tag:noindex
X-PUBLISHED-TTL:PT1H
BEGIN:VTIMEZONE
TZID:America/Mexico_City
BEGIN:STANDARD
TZOFFSETFROM:-0600
TZOFFSETTO:-0600
TZNAME:CST
DTSTART:20250101T000000
END:STANDARD
END:VTIMEZONE
BEGIN:VEVENT
DTSTART;TZID=America/Mexico_City:20260424T180000
DTEND;TZID=America/Mexico_City:20260424T200000
DTSTAMP:20260424T012931
CREATED:20260423T142652Z
LAST-MODIFIED:20260423T142652Z
UID:23177-1777053600-1777060800@cenumex.com
SUMMARY:Presentación del Libro "Una moneda no se le da a cualquiera. La moneda en el noroeste mexicano 1750-1905"
DESCRIPTION:Presentación del libro “Una moneda no se le da a cualquiera. La moneda en el noroeste mexicano 1750-1905” del Dr. Rafael Ayala Aragón.
URL:https://cenumex.com/evento/presentacion-del-libro-una-moneda-no-se-le-da-a-cualquiera-la-moneda-en-el-noroeste-mexicano-1750-1905/
LOCATION:Sociedad Sonorense de Historia A. C.\, Avenida Rosales #123\, Colonia Centro.\, Hermosillo\, Sonora\, 83000\, Mexico
CATEGORIES:Conferencia
ATTACH;FMTTYPE=image/jpeg:https://cenumex.com/wp-content/uploads/2026/04/imgi_22_678919570_122163804674807368_3894566052824486485_n.jpg
END:VEVENT
END:VCALENDAR