BEGIN:VCALENDAR
VERSION:2.0
PRODID:-//Cenumex - ECPv6.15.20//NONSGML v1.0//EN
CALSCALE:GREGORIAN
METHOD:PUBLISH
X-ORIGINAL-URL:https://cenumex.com
X-WR-CALDESC:Eventos para Cenumex
REFRESH-INTERVAL;VALUE=DURATION:PT1H
X-Robots-Tag:noindex
X-PUBLISHED-TTL:PT1H
BEGIN:VTIMEZONE
TZID:America/Mexico_City
BEGIN:STANDARD
TZOFFSETFROM:-0600
TZOFFSETTO:-0600
TZNAME:CST
DTSTART:20240101T000000
END:STANDARD
END:VTIMEZONE
BEGIN:VEVENT
DTSTART;TZID=America/Mexico_City:20250514T120000
DTEND;TZID=America/Mexico_City:20250514T140000
DTSTAMP:20260420T230523
CREATED:20250507T000828Z
LAST-MODIFIED:20250507T000828Z
UID:19847-1747224000-1747231200@cenumex.com
SUMMARY:El preludio de nuestra disolución: El papel moneda y la soberanía nacional en el Primer Imperio Mexicano (1822–1823)
DESCRIPTION:Evento del Seminario Interinstitucional de Historia Económica (SIHE)\n\n\nAvance de investigación: “The prelude to our dissolution: Paper moneyand national sovereignty in Mexico’s first empire (1822-1823)”\n\n\n\n\nPresentador:\n\nAndrew Konove\, The University of Texas at San Antonio\n\n\n\n\nComentaristas:\n\nRicardo Fernández Castillo\, Facultad de Economía – UNAM\nJavier Encabo González\, Instituto de Investigaciones Dr. José María Luis Mora\n\n\n\n\nModerador:\n\nGuillermo del Valle Pavón\, Instituto de Investigaciones Dr. José María Luis Mora
URL:https://cenumex.com/evento/el-preludio-de-nuestra-disolucion-el-papel-moneda-y-la-soberania-nacional-en-el-primer-imperio-mexicano-1822-1823/
LOCATION:Zoom (reunión virtual)
CATEGORIES:Conferencia
ATTACH;FMTTYPE=image/jpeg:https://cenumex.com/wp-content/uploads/2025/05/494983601_122219713562179018_4518251304782342942_n.jpg
END:VEVENT
END:VCALENDAR