BEGIN:VCALENDAR
VERSION:2.0
PRODID:-//Cenumex - ECPv6.15.20//NONSGML v1.0//EN
CALSCALE:GREGORIAN
METHOD:PUBLISH
X-WR-CALNAME:Cenumex
X-ORIGINAL-URL:https://cenumex.com
X-WR-CALDESC:Eventos para Cenumex
REFRESH-INTERVAL;VALUE=DURATION:PT1H
X-Robots-Tag:noindex
X-PUBLISHED-TTL:PT1H
BEGIN:VTIMEZONE
TZID:America/Mexico_City
BEGIN:STANDARD
TZOFFSETFROM:-0600
TZOFFSETTO:-0600
TZNAME:CST
DTSTART:20240101T000000
END:STANDARD
END:VTIMEZONE
BEGIN:VEVENT
DTSTART;TZID=America/Mexico_City:20250310T190000
DTEND;TZID=America/Mexico_City:20250310T203000
DTSTAMP:20260419T140032
CREATED:20250310T154551Z
LAST-MODIFIED:20250310T154551Z
UID:19396-1741633200-1741638600@cenumex.com
SUMMARY:Conferencia "Literatura Numismática Mexicana"
DESCRIPTION:La Sociedad Numismática de México (SONUMEX) invita a su asamblea virtual número 850\, donde se presentará una conferencia de Adrián González Salinas titulada “Literatura Numismática Mexicana”.
URL:https://cenumex.com/evento/conferencia-literatura-numismatica-mexicana/
LOCATION:Facebook Live
CATEGORIES:Evento virtual
ATTACH;FMTTYPE=image/jpeg:https://cenumex.com/wp-content/uploads/2025/03/475741295_669987612360714_5802855564954167230_n.jpg
ORGANIZER;CN="Sociedad Numism%C3%A1tica de M%C3%A9xico":MAILTO:info@sonumex.org.mx
END:VEVENT
END:VCALENDAR